BEGIN:VCALENDAR
VERSION:2.0
PRODID:-//Bedfordshire Domestic Abuse Partnership - ECPv6.15.11//NONSGML v1.0//EN
CALSCALE:GREGORIAN
METHOD:PUBLISH
X-WR-CALNAME:Bedfordshire Domestic Abuse Partnership
X-ORIGINAL-URL:https://bedsdv.org.uk
X-WR-CALDESC:Events for Bedfordshire Domestic Abuse Partnership
REFRESH-INTERVAL;VALUE=DURATION:PT1H
X-Robots-Tag:noindex
X-PUBLISHED-TTL:PT1H
BEGIN:VTIMEZONE
TZID:UTC
BEGIN:STANDARD
TZOFFSETFROM:+0000
TZOFFSETTO:+0000
TZNAME:UTC
DTSTART:20240101T000000
END:STANDARD
END:VTIMEZONE
BEGIN:VTIMEZONE
TZID:UTC
BEGIN:STANDARD
TZOFFSETFROM:+0000
TZOFFSETTO:+0000
TZNAME:UTC
DTSTART:20240101T000000
END:STANDARD
END:VTIMEZONE
BEGIN:VTIMEZONE
TZID:Europe/London
BEGIN:DAYLIGHT
TZOFFSETFROM:+0000
TZOFFSETTO:+0100
TZNAME:BST
DTSTART:20240331T010000
END:DAYLIGHT
BEGIN:STANDARD
TZOFFSETFROM:+0100
TZOFFSETTO:+0000
TZNAME:GMT
DTSTART:20241027T010000
END:STANDARD
BEGIN:DAYLIGHT
TZOFFSETFROM:+0000
TZOFFSETTO:+0100
TZNAME:BST
DTSTART:20250330T010000
END:DAYLIGHT
BEGIN:STANDARD
TZOFFSETFROM:+0100
TZOFFSETTO:+0000
TZNAME:GMT
DTSTART:20251026T010000
END:STANDARD
BEGIN:DAYLIGHT
TZOFFSETFROM:+0000
TZOFFSETTO:+0100
TZNAME:BST
DTSTART:20260329T010000
END:DAYLIGHT
BEGIN:STANDARD
TZOFFSETFROM:+0100
TZOFFSETTO:+0000
TZNAME:GMT
DTSTART:20261025T010000
END:STANDARD
END:VTIMEZONE
BEGIN:VEVENT
DTSTART;TZID=UTC:20251126T093000
DTEND;TZID=UTC:20251126T143000
DTSTAMP:20260422T034909
CREATED:20251030T141432Z
LAST-MODIFIED:20251030T141825Z
UID:5777-1764149400-1764167400@bedsdv.org.uk
SUMMARY:Luton Women's Conference
DESCRIPTION:Luton Women’s Conference \nWednesday 26th November: 9:30 – 14:30hrs. Doors open at 9am  \nGrand Royale Banqueting\, Crescent Road Luton LU2 0AH \nGet ready to be inspired\, empowered\, and connect with amazing people at the Luton Women’s Conference! \nBook your place: https://www.eventbrite.co.uk/e/luton-womens-conference
URL:https://bedsdv.org.uk/event/luton-womens-conference/
END:VEVENT
BEGIN:VEVENT
DTSTART;TZID=UTC:20251125T150000
DTEND;TZID=UTC:20251125T170000
DTSTAMP:20260422T034909
CREATED:20251030T140957Z
LAST-MODIFIED:20251118T104009Z
UID:5770-1764082800-1764090000@bedsdv.org.uk
SUMMARY:Orange the World Walk: Stop Violence Against Women
DESCRIPTION:Orange the World Walk: Stop Violence Against Women \nJoin Stepping Stones\, the Inner Wheel Club Luton North\, Azalea and Women’s Aid Luton on Tuesday 25th November\, as we take to the streets for a short walk around central Luton to raise awareness of Gender-based violence. \nWalk leaves Stepping Stones HQ at 3:30pm. \nSign up: https://www.tickettailor.com/events/steppingstonesluton/1867596 \nAll are welcome to take part in this FREE event\, expected to end around 5pm with light refreshments at Stepping Stones. \nDon’t forget to wear something orange in solidarity with the UNiTE campaign to End Violence Against Women.  \n 
URL:https://bedsdv.org.uk/event/orange-the-world-walk-stop-violence-against-women/
LOCATION:Stepping Stones Luton\, 9a George St W\,\, Luton\, LU1 2BJ\, United Kingdom
ATTACH;FMTTYPE=image/png:https://bedsdv.org.uk/wp-content/uploads/2025/11/Stepping-stones.png
END:VEVENT
BEGIN:VEVENT
DTSTART;TZID=Europe/London:20251125T080000
DTEND;TZID=Europe/London:20251210T170000
DTSTAMP:20260422T034909
CREATED:20251110T154127Z
LAST-MODIFIED:20251110T154155Z
UID:5839-1764057600-1765386000@bedsdv.org.uk
SUMMARY:Nine Red Presents...'Our House' Art Installation
DESCRIPTION:“Our House” art installation will be on display at Wardown House Museum and Gallery throughout 16 Days. \n“Our House” was commissioned by the Bedfordshire Domestic Abuse Partnership in 2015. It features a giant ‘advent calendar’ house\, with each window unveiling a positive survivor’s story through poetry or art. This installation serves as a powerful engagement tool and has resonated deeply with audiences. \n 
URL:https://bedsdv.org.uk/event/nine-red-presents-our-house-art-installation/
ATTACH;FMTTYPE=image/png:https://bedsdv.org.uk/wp-content/uploads/2025/11/Nine-Red-logo.png
END:VEVENT
END:VCALENDAR