BEGIN:VCALENDAR
VERSION:2.0
PRODID:-//Bedfordshire Domestic Abuse Partnership - ECPv6.15.11//NONSGML v1.0//EN
CALSCALE:GREGORIAN
METHOD:PUBLISH
X-ORIGINAL-URL:https://bedsdv.org.uk
X-WR-CALDESC:Events for Bedfordshire Domestic Abuse Partnership
REFRESH-INTERVAL;VALUE=DURATION:PT1H
X-Robots-Tag:noindex
X-PUBLISHED-TTL:PT1H
BEGIN:VTIMEZONE
TZID:Europe/London
BEGIN:DAYLIGHT
TZOFFSETFROM:+0000
TZOFFSETTO:+0100
TZNAME:BST
DTSTART:20250330T010000
END:DAYLIGHT
BEGIN:STANDARD
TZOFFSETFROM:+0100
TZOFFSETTO:+0000
TZNAME:GMT
DTSTART:20251026T010000
END:STANDARD
BEGIN:DAYLIGHT
TZOFFSETFROM:+0000
TZOFFSETTO:+0100
TZNAME:BST
DTSTART:20260329T010000
END:DAYLIGHT
BEGIN:STANDARD
TZOFFSETFROM:+0100
TZOFFSETTO:+0000
TZNAME:GMT
DTSTART:20261025T010000
END:STANDARD
BEGIN:DAYLIGHT
TZOFFSETFROM:+0000
TZOFFSETTO:+0100
TZNAME:BST
DTSTART:20270328T010000
END:DAYLIGHT
BEGIN:STANDARD
TZOFFSETFROM:+0100
TZOFFSETTO:+0000
TZNAME:GMT
DTSTART:20271031T010000
END:STANDARD
END:VTIMEZONE
BEGIN:VEVENT
DTSTART;TZID=Europe/London:20260307T193000
DTEND;TZID=Europe/London:20260307T193000
DTSTAMP:20260421T220906
CREATED:20260223T163932Z
LAST-MODIFIED:20260223T164736Z
UID:6177-1772911800-1772911800@bedsdv.org.uk
SUMMARY:A Walk in the Park
DESCRIPTION:A Walk in the Park – The Place Bedford – 7 March 2026 (19:30) \n70% of women in the UK have experienced sexual harassment in public. Meanwhile\, a social media poll finds that\, in a hypothetical world without men for a day\, the overwhelming majority of women said they’d use the opportunity to go for walk alone after dark. \nTaking these findings as a starting point\, A Walk in the Park is a participatory performance aimed at exploring our shared experience of public spaces. Combining authentic conversations\, startling statistics and choreographed movement to create an atmospheric exploration of what it can feel like to walk alone in the dark\, the performance ends with an invitation to the audience to leave the space together and walk through a nearby park or green space. \nDuring this shared walk\, participants are facilitated to share their experiences and build an installation of creative reflections. All voices and contributions are welcome\, and audience members are free to participate as much or as little as they wish. \nTickets & info: https://www.theplacebedford.org.uk/shows/a-walk-in-the-park/
URL:https://bedsdv.org.uk/event/a-walk-in-the-park/
LOCATION:The Place Theatre\, Bradgate Rd\,\, Bedford\, MK40 3DE\, United Kingdom
ATTACH;FMTTYPE=image/jpeg:https://bedsdv.org.uk/wp-content/uploads/2026/02/WhatsApp-Image-2026-02-10-at-21.49.18.jpeg
END:VEVENT
END:VCALENDAR